BEGIN:VCALENDAR
VERSION:2.0
PRODID:-//1000 Southern Artery - ECPv6.15.20//NONSGML v1.0//EN
CALSCALE:GREGORIAN
METHOD:PUBLISH
X-ORIGINAL-URL:https://1000sasc.org
X-WR-CALDESC:Events for 1000 Southern Artery
REFRESH-INTERVAL;VALUE=DURATION:PT1H
X-Robots-Tag:noindex
X-PUBLISHED-TTL:PT1H
BEGIN:VTIMEZONE
TZID:UTC
BEGIN:STANDARD
TZOFFSETFROM:+0000
TZOFFSETTO:+0000
TZNAME:UTC
DTSTART:20250101T000000
END:STANDARD
END:VTIMEZONE
BEGIN:VEVENT
DTSTART;TZID=UTC:20260423T140000
DTEND;TZID=UTC:20260423T150000
DTSTAMP:20260421T122231
CREATED:20260324T144620Z
LAST-MODIFIED:20260325T152604Z
UID:10032217-1776952800-1776956400@1000sasc.org
SUMMARY:1000 SASC Annual Hoedown
DESCRIPTION:NW DR \nCome on down to the Dining Room for a tasty pulled pork sandwich\, and stay for some good ol’ fashioned fun! Enjoy a pulled pork sandwich\, coleslaw\, chips & an iced tea for just $10.00\, and then kick up your heels at our Line Dancing event\, starting at 2:00 PM. \nLed by a talented local professional dance instructor\, this event is perfect for dancers of all levels! Whether you’re a seasoned pro or a beginner\, you’ll enjoy learning the moves and   getting into the rhythm of the dance floor. \nSo\, dust off those cowboy hats and lace up your boots – this is one Hoedown you don’t want to miss! Everyone is welcome to this FREE event\, whether you want to dance or just watch the fun unfold. \n  \n  \n  \n 
URL:https://1000sasc.org/event/1000-sasc-annual-hoedown/
CATEGORIES:Events
END:VEVENT
BEGIN:VEVENT
DTSTART;TZID=UTC:20260424T133000
DTEND;TZID=UTC:20260424T143000
DTSTAMP:20260421T122231
CREATED:20260324T151244Z
LAST-MODIFIED:20260324T151244Z
UID:10032218-1777037400-1777041000@1000sasc.org
SUMMARY:Catholic Mass
DESCRIPTION:EW Lounge  \nYou are warmly invited to attend a Catholic Mass on Friday\, April 24th at 1:30 PM in the East Wing Lounge. This special gathering offers a meaningful opportunity for prayer\, reflection\, and community. All are welcome to  attend\, regardless of parish affiliation. \nConfession will also be available before or after Mass for those who wish to participate. \nTo help us prepare\, please call the Senior Center Office at 617-471-1000 x 107 to reserve your spot. \n 
URL:https://1000sasc.org/event/catholic-mass-10/
CATEGORIES:Events
END:VEVENT
BEGIN:VEVENT
DTSTART;TZID=UTC:20260427T133000
DTEND;TZID=UTC:20260427T153000
DTSTAMP:20260421T122231
CREATED:20260324T151610Z
LAST-MODIFIED:20260324T151610Z
UID:10032219-1777296600-1777303800@1000sasc.org
SUMMARY:Craft with the Center Office
DESCRIPTION:ACT RM \nRegister for an afternoon of crafting on Monday\, April 27th at 1:30 PM AND  2:30 PM in Activity Room. Choose from a variety of crafts and materials to create a special keepsake. We will provide the supplies\, you bring your  creativity! \nPlease register for one of the sessions by calling the Center Office at 617-471-1000 x 107. \n 
URL:https://1000sasc.org/event/craft-with-the-center-office-3/
CATEGORIES:Events
END:VEVENT
BEGIN:VEVENT
DTSTART;TZID=UTC:20260428T133000
DTEND;TZID=UTC:20260428T140000
DTSTAMP:20260421T122231
CREATED:20260324T151812Z
LAST-MODIFIED:20260330T152810Z
UID:10032220-1777383000-1777384800@1000sasc.org
SUMMARY:Movie of the Month - My Fair Lady
DESCRIPTION:SW AUD \nJoin us on Tuesday\, April 28th at 1:30 PM as we will be showing the classic musical\, My Fair Lady\, starring Audrey Hepburn\, Rex Harrison\, Stanley Holloway\, and more. \n In 1910s London\, snobbish phonetics  professor Henry Higgins agrees to a wager that he can make a crude flower girl\, Eliza Doolittle\,   presentable in high society. \nWe will have a repeat showing of My Fair Lady with closed caption\, on the following day\, April 29th\, at 1:30 PM. This film is rated G and run approximately 2hrs 50 minutes
URL:https://1000sasc.org/event/movie-of-the-month-my-fair-lady/
CATEGORIES:Events
END:VEVENT
BEGIN:VEVENT
DTSTART;TZID=UTC:20260429T133000
DTEND;TZID=UTC:20260429T143000
DTSTAMP:20260421T122231
CREATED:20260324T151928Z
LAST-MODIFIED:20260324T151928Z
UID:10032221-1777469400-1777473000@1000sasc.org
SUMMARY:Movie of the Month (CC) - My Fair Lady
DESCRIPTION:SW AUD \nJoin us on Wednesday\, April 29th at 1:30 PM as we will be showing the classic musical\, My Fair Lady (in closed caption)\, starring Audrey Hepburn\, Rex Harrison\, Stanley Holloway\, and more. \nIn 1910s London\, snobbish phonetics  professor Henry Higgins agrees to a wager that he can make a crude flower girl\, Eliza Doolittle\,   presentable in high society. \nThis film is rated G and run approximately 2hrs 50 minutes. 
URL:https://1000sasc.org/event/movie-of-the-month-cc-my-fair-lady/
CATEGORIES:Events
END:VEVENT
END:VCALENDAR